BEGIN:VCALENDAR
VERSION:2.0
PRODID:-//Texas Ethics Commission - ECPv6.14.2//NONSGML v1.0//EN
CALSCALE:GREGORIAN
METHOD:PUBLISH
X-WR-CALNAME:Texas Ethics Commission
X-ORIGINAL-URL:https://www.ethics.texas.gov
X-WR-CALDESC:Events for Texas Ethics Commission
REFRESH-INTERVAL;VALUE=DURATION:PT1H
X-Robots-Tag:noindex
X-PUBLISHED-TTL:PT1H
BEGIN:VTIMEZONE
TZID:America/Chicago
BEGIN:DAYLIGHT
TZOFFSETFROM:-0600
TZOFFSETTO:-0500
TZNAME:CDT
DTSTART:20250309T080000
END:DAYLIGHT
BEGIN:STANDARD
TZOFFSETFROM:-0500
TZOFFSETTO:-0600
TZNAME:CST
DTSTART:20251102T070000
END:STANDARD
END:VTIMEZONE
BEGIN:VEVENT
DTSTART;VALUE=DATE:20250710
DTEND;VALUE=DATE:20250711
DTSTAMP:20260420T014003
CREATED:20250528T154055Z
LAST-MODIFIED:20250528T154055Z
UID:774-1752105600-1752191999@www.ethics.texas.gov
SUMMARY:Lobby Monthly Activity Report Due
DESCRIPTION:Covers 01/01/2024 through 12/31/2024. (all officeholders\, other than county chairs)
URL:https://www.ethics.texas.gov/event/lobby-monthly-activity-report-due/
END:VEVENT
END:VCALENDAR